BEGIN:VCALENDAR
VERSION:2.0
PRODID:-//Schola Cantorum di Bazzano//NONSGML kigkonsult.se iCalcreator 2.3
 0.10//
CALSCALE:GREGORIAN
METHOD:PUBLISH
UID:2c650f39-dc6b-41f5-b089-351164297147
X-WR-CALNAME:iCagenda
X-WR-CALDESC:Event Management Extension for Joomla!
X-WR-RELCALID:3E26604A-50F4-4449-8B3E-E4F4932D05B5
X-WR-TIMEZONE:UTC
BEGIN:VTIMEZONE
TZID:UTC
END:VTIMEZONE
BEGIN:VEVENT
UID:6effb64f-8180-4c5b-b334-010d01ac50bd
DTSTAMP:20260422T093748Z
CATEGORIES:Cerimonie
CLASS:PUBLIC
DESCRIPTION:
DTSTART:20161225T103000Z
DTEND:20161225T103000Z
GEO:+44.502674;+11.082882
LOCATION:Chiesa Parrocchiale di Santo Stefano
ORGANIZER:
SEQUENCE:1
SUMMARY:Messa Santo Natale
TRANSP:OPAQUE
URL:https://www.scholacantorumbazzano.it/la-storia/2016/23-messa-santo-nata
 le/2016-12-25-10-30.html
END:VEVENT
END:VCALENDAR
