BEGIN:VCALENDAR
VERSION:2.0
PRODID:-//Schola Cantorum di Bazzano//NONSGML kigkonsult.se iCalcreator 2.3
 0.10//
CALSCALE:GREGORIAN
METHOD:PUBLISH
UID:4d65d74f-889a-426d-99da-a5e5e329da5b
X-WR-CALNAME:iCagenda
X-WR-CALDESC:Event Management Extension for Joomla!
X-WR-RELCALID:3E26604A-50F4-4449-8B3E-E4F4932D05B5
X-WR-TIMEZONE:UTC
BEGIN:VTIMEZONE
TZID:UTC
END:VTIMEZONE
BEGIN:VEVENT
UID:7c6edc17-fa73-46a6-bd70-d522129e8653
DTSTAMP:20260422T094911Z
CATEGORIES:Concerti
CLASS:PUBLIC
DESCRIPTION;ALTREP="CID:<FFFF__=0ABBE548DFE235B58f9e8a93d@coffeebean.com>":
 La Schola Cantorum di Bazzano unitamente al Coro di Salisburgo eseguir&agr
 ave\; la Messa dei Passeri di Mozart (K220) presso la Chiesa di San Salvad
 or in Sestiere di S. Marco a Venezia.
DTSTART:20161015T180000Z
DTEND:20161015T180000Z
GEO:+45.434998;+12.33075
LOCATION:Chiesa di San Salvador
ORGANIZER;CN=:pianoforteacoda@alice.it
SEQUENCE:1
SUMMARY:Messa dei Passeri - K220 di Mozart
TRANSP:OPAQUE
URL:https://www.scholacantorumbazzano.it/la-storia/2016/2-messa-dei-passeri
 -k220-di-mozart/2016-10-15-18-00.html
END:VEVENT
END:VCALENDAR
