BEGIN:VCALENDAR
VERSION:2.0
PRODID:-//Schola Cantorum di Bazzano//NONSGML kigkonsult.se iCalcreator 2.3
 0.10//
CALSCALE:GREGORIAN
METHOD:PUBLISH
UID:88db9f36-205e-4ef4-a69a-0c382d938a7f
X-WR-CALNAME:iCagenda
X-WR-CALDESC:Event Management Extension for Joomla!
X-WR-RELCALID:3E26604A-50F4-4449-8B3E-E4F4932D05B5
X-WR-TIMEZONE:UTC
BEGIN:VTIMEZONE
TZID:UTC
END:VTIMEZONE
BEGIN:VEVENT
UID:5676b423-cfb9-4509-8357-edb55064f2e3
DTSTAMP:20260422T082615Z
CATEGORIES:Concerti
CLASS:PUBLIC
DESCRIPTION;ALTREP="CID:<FFFF__=0ABBE548DFE235B58f9e8a93d@coffeebean.com>":
 Accompagnamento della Santa Messa nella Cattedrale Patriarcale di San Marc
 o a Venezia.
DTSTART:20161016T120000Z
DTEND:20161016T120000Z
GEO:+45.434528;+12.339721
LOCATION:San Marco
ORGANIZER:
SEQUENCE:1
SUMMARY:Santa Messa nella Cattedrale Patriarcale di San Marco
TRANSP:OPAQUE
URL:https://www.scholacantorumbazzano.it/la-storia/2016/15-santa-messa-nell
 a-cattedrale-patriarcale-di-san-marco/2016-10-16-12-00.html
END:VEVENT
END:VCALENDAR
