BEGIN:VCALENDAR
VERSION:2.0
PRODID:-//Schola Cantorum di Bazzano//NONSGML kigkonsult.se iCalcreator 2.3
 0.10//
CALSCALE:GREGORIAN
METHOD:PUBLISH
UID:9bd31f4b-7712-4cab-8fa8-81c0a326fc46
X-WR-CALNAME:iCagenda
X-WR-CALDESC:Event Management Extension for Joomla!
X-WR-RELCALID:3E26604A-50F4-4449-8B3E-E4F4932D05B5
X-WR-TIMEZONE:UTC
BEGIN:VTIMEZONE
TZID:UTC
END:VTIMEZONE
BEGIN:VEVENT
UID:9008d318-1da2-4b70-92ba-a04ce9b4dea7
DTSTAMP:20260422T081600Z
CATEGORIES:CorinFestival
CLASS:PUBLIC
DESCRIPTION;ALTREP="CID:<FFFF__=0ABBE548DFE235B58f9e8a93d@coffeebean.com>":
 L&rsquo\;Associazione&nbsp\; Corale Polifonica SCHOLA CANTORUM DI BAZZANO 
 in collaborazione con le amministrazioni locali propone la V edizione del 
 Festival Internazionale di cori in Emilia\, a cui potranno partecipare cor
 i di ogni genere e tipologia.Il Festival\, che costituisce una autentica n
 ovit&agrave\; sul territorio\, &egrave\; un importante evento che concilia
  la passione per la musica e per il canto con i valori universali dell&rsq
 uo\;amicizia e della solidariet&agrave\;\, favorendo lo scambio e il confr
 onto fra le varie realt&agrave\; corali nazionali e internazionali.Il fest
 ival avr&agrave\; luogo il 30 settembre e l'1 e 2 ottobre 2016.Possono par
 tecipare al Festival tutti i cori interessati anche ad una singola manifes
 tazione\, senza obbligo di vitto e alloggio. Non sono previste quote per l
 &rsquo\;iscrizione.\nCordiali saluti.\nIL PRESIDENTE E DIRETTORE ARTISTICO
 Manuela Borghi
DTSTART:20160930T210000Z
DTEND:20161002T103000Z
GEO:+44.508636;+11.08034
LOCATION:Valsamoggia
ORGANIZER;CN=:info@corinfestival.it
SEQUENCE:1
SUMMARY:Corinfestival V Edizione
TRANSP:OPAQUE
URL:https://www.scholacantorumbazzano.it/la-storia/2016/1-corinfestival-v-e
 dizione.html
END:VEVENT
END:VCALENDAR
